BEGIN:VCALENDAR
VERSION:2.0
PRODID:-//Subkulturverein N&uuml;rnberg - ECPv6.15.20//NONSGML v1.0//EN
CALSCALE:GREGORIAN
METHOD:PUBLISH
X-ORIGINAL-URL:https://www.subkulturverein.de
X-WR-CALDESC:Veranstaltungen für Subkulturverein N&uuml;rnberg
REFRESH-INTERVAL;VALUE=DURATION:PT1H
X-Robots-Tag:noindex
X-PUBLISHED-TTL:PT1H
BEGIN:VTIMEZONE
TZID:Europe/Berlin
BEGIN:DAYLIGHT
TZOFFSETFROM:+0100
TZOFFSETTO:+0200
TZNAME:CEST
DTSTART:20250330T010000
END:DAYLIGHT
BEGIN:STANDARD
TZOFFSETFROM:+0200
TZOFFSETTO:+0100
TZNAME:CET
DTSTART:20251026T010000
END:STANDARD
BEGIN:DAYLIGHT
TZOFFSETFROM:+0100
TZOFFSETTO:+0200
TZNAME:CEST
DTSTART:20260329T010000
END:DAYLIGHT
BEGIN:STANDARD
TZOFFSETFROM:+0200
TZOFFSETTO:+0100
TZNAME:CET
DTSTART:20261025T010000
END:STANDARD
BEGIN:DAYLIGHT
TZOFFSETFROM:+0100
TZOFFSETTO:+0200
TZNAME:CEST
DTSTART:20270328T010000
END:DAYLIGHT
BEGIN:STANDARD
TZOFFSETFROM:+0200
TZOFFSETTO:+0100
TZNAME:CET
DTSTART:20271031T010000
END:STANDARD
END:VTIMEZONE
BEGIN:VEVENT
DTSTART;TZID=Europe/Berlin:20260509T180000
DTEND;TZID=Europe/Berlin:20260510T043000
DTSTAMP:20260421T111938
CREATED:20260216T190625Z
LAST-MODIFIED:20260420T151038Z
UID:920-1778349600-1778387400@www.subkulturverein.de
SUMMARY:SKV/LFO-KRU Open Air!
DESCRIPTION:Moin Friends! \nAm 09.Mai ist es soweit\, wir starten wieder ein gemeinsames Open Air mit der LFO-KRU! \nMusikalisch werden wir euch eine erlesene Auswahl quer durch die Bassmusik-Landschaft kredenzen. Freut euch daher schon mal auf ein illustres Lineup… \nLos gehts ab 18:00h. Wie immer gilt: Come early\, stay late! \nWir freuen uns schon auf euch! \nWichtig: Bitte plant ein\, alles wieder mit nach hause zu nehmen. Leave nothing but footprints! \n[Disclaimer: Wir dulden bei dieser und all unseren Veranstaltungen keinen Rassimus\, keinen Sexismus\, keine Homo- oder Trans*feindlichkeit und auch kein weiteres Verhalten\, das Menschen aufgrund von gesellschaftlichen konstruierten Kategorien diskriminiert.]
URL:https://www.subkulturverein.de/veranstaltungen/skv-lfo-kru-open-air-2/
LOCATION:Location: tba
ATTACH;FMTTYPE=image/jpeg:https://www.subkulturverein.de/wp-content/uploads/2026/02/photo_2026-04-20_17-06-40.jpg
END:VEVENT
BEGIN:VEVENT
DTSTART;TZID=Europe/Berlin:20260605T180000
DTEND;TZID=Europe/Berlin:20260606T040000
DTSTAMP:20260421T111938
CREATED:20260216T190857Z
LAST-MODIFIED:20260216T190911Z
UID:922-1780682400-1780718400@www.subkulturverein.de
SUMMARY:Open Air
DESCRIPTION:Infos folgen!
URL:https://www.subkulturverein.de/veranstaltungen/open-air/
LOCATION:Location: tba
END:VEVENT
BEGIN:VEVENT
DTSTART;TZID=Europe/Berlin:20260711T180000
DTEND;TZID=Europe/Berlin:20260712T040000
DTSTAMP:20260421T111938
CREATED:20260216T191754Z
LAST-MODIFIED:20260216T191754Z
UID:924-1783792800-1783828800@www.subkulturverein.de
SUMMARY:SKV/EMPOW Open Air
DESCRIPTION:Infos folgen!
URL:https://www.subkulturverein.de/veranstaltungen/skv-empow-open-air/
LOCATION:Location: tba
END:VEVENT
BEGIN:VEVENT
DTSTART;TZID=Europe/Berlin:20261120T080000
DTEND;TZID=Europe/Berlin:20261120T170000
DTSTAMP:20260421T111938
CREATED:20260324T191227Z
LAST-MODIFIED:20260324T191227Z
UID:946-1795161600-1795194000@www.subkulturverein.de
SUMMARY:SKV Metal Night
DESCRIPTION:t.b.a.
URL:https://www.subkulturverein.de/veranstaltungen/skv-metal-night-6/
LOCATION:Bayern
END:VEVENT
END:VCALENDAR